BEGIN:VCALENDAR
VERSION:2.0
PRODID:-//Onorariu Artisti - ECPv6.2.9//NONSGML v1.0//EN
CALSCALE:GREGORIAN
METHOD:PUBLISH
X-WR-CALNAME:Onorariu Artisti
X-ORIGINAL-URL:http://onorariu-artisti.ro
X-WR-CALDESC:Events for Onorariu Artisti
REFRESH-INTERVAL;VALUE=DURATION:PT1H
X-Robots-Tag:noindex
X-PUBLISHED-TTL:PT1H
BEGIN:VTIMEZONE
TZID:UTC
BEGIN:STANDARD
TZOFFSETFROM:+0000
TZOFFSETTO:+0000
TZNAME:UTC
DTSTART:20170101T000000
END:STANDARD
END:VTIMEZONE
BEGIN:VEVENT
DTSTART;TZID=UTC:20180519T190000
DTEND;TZID=UTC:20180519T220000
DTSTAMP:20260420T051715
CREATED:20181108T104059Z
LAST-MODIFIED:20181108T104059Z
UID:5065-1526756400-1526767200@onorariu-artisti.ro
SUMMARY:Zilele Sighisoarei - Raymond
DESCRIPTION:In data de 19 mai trupa Narcotic Sound\, Vunk si Raymond vor concerta la Zilele Sighisoarei.
URL:http://onorariu-artisti.ro/event/zilele-sighisoarei-raymond/
LOCATION:sighisoara\, sighisoara\, România
ATTACH;FMTTYPE=image/jpeg:http://onorariu-artisti.ro/wp-content/uploads/raymond-zilele-sighisoarei.jpg
END:VEVENT
BEGIN:VEVENT
DTSTART;TZID=UTC:20180519T190000
DTEND;TZID=UTC:20180519T220000
DTSTAMP:20260420T051715
CREATED:20181108T103453Z
LAST-MODIFIED:20181108T103453Z
UID:5061-1526756400-1526767200@onorariu-artisti.ro
SUMMARY:Zilele Sighisoarei - Vunk
DESCRIPTION:In data de 19 mai trupa Narcotic Sound\, Vunk si Raymond vor concerta la Zilele Sighisoarei.
URL:http://onorariu-artisti.ro/event/zilele-sighisoarei-vunk/
LOCATION:sighisoara\, sighisoara\, România
CATEGORIES:concerte
ATTACH;FMTTYPE=image/jpeg:http://onorariu-artisti.ro/wp-content/uploads/vunk-zilele-sighisoarei.jpg
END:VEVENT
BEGIN:VEVENT
DTSTART;TZID=UTC:20180519T190000
DTEND;TZID=UTC:20180519T220000
DTSTAMP:20260420T051715
CREATED:20181108T103103Z
LAST-MODIFIED:20181108T103103Z
UID:3963-1526756400-1526767200@onorariu-artisti.ro
SUMMARY:Zilele Sighisoarei - Narcotic Sound
DESCRIPTION:In data de 19 mai trupa Narcotic Sound\, Vunk si Raymond sustin concerte live la Zilele Sighisoarei.
URL:http://onorariu-artisti.ro/event/zilele-sighisoarei-narcotic-sound/
LOCATION:sighisoara\, sighisoara\, România
CATEGORIES:concerte
ATTACH;FMTTYPE=image/jpeg:http://onorariu-artisti.ro/wp-content/uploads/narcotic-sound-zilele-sighisoarei.jpg
END:VEVENT
BEGIN:VEVENT
DTSTART;TZID=UTC:20180421T190000
DTEND;TZID=UTC:20180421T200000
DTSTAMP:20260420T051715
CREATED:20181108T093114Z
LAST-MODIFIED:20181108T093114Z
UID:3959-1524337200-1524340800@onorariu-artisti.ro
SUMMARY:Concert Trupa Hara
DESCRIPTION:Trupa Hara a sustinut in data de 21 aprilie un concert live in orasul Giurgiu la Teatrul Tudor Vianu
URL:http://onorariu-artisti.ro/event/concert-trupa-hara/
LOCATION:Teatrul Tudor Vianu Giurgiu\, giurgiu\, România
CATEGORIES:concerte
ATTACH;FMTTYPE=image/jpeg:http://onorariu-artisti.ro/wp-content/uploads/trupa-hara-concert.jpg
END:VEVENT
BEGIN:VEVENT
DTSTART;TZID=UTC:20171231T223000
DTEND;TZID=UTC:20171231T233000
DTSTAMP:20260420T051715
CREATED:20181108T052032Z
LAST-MODIFIED:20181122T142525Z
UID:3936-1514759400-1514763000@onorariu-artisti.ro
SUMMARY:Revelion Gabriel Cotabita
DESCRIPTION:Ultima si prima zi din an va fi in compania lui Gabriel cotabita. Va asteptam la Hanul domnesc din Sacele (Brasov)
URL:http://onorariu-artisti.ro/event/revelion-gabriel-cotabita/
LOCATION:Hanul Domnesc\, Sacele\, România
CATEGORIES:concerte
ATTACH;FMTTYPE=image/jpeg:http://onorariu-artisti.ro/wp-content/uploads/gabriel-cotabita-mi-e-dor-de-mine.jpg
END:VEVENT
BEGIN:VEVENT
DTSTART;TZID=UTC:20170722T210000
DTEND;TZID=UTC:20170722T220000
DTSTAMP:20260420T051715
CREATED:20181113T111100Z
LAST-MODIFIED:20181113T111100Z
UID:5441-1500757200-1500760800@onorariu-artisti.ro
SUMMARY:Zilele Orasului Sacele - Andreea Banica
DESCRIPTION:In data de 22 iulie Andreea Banica\, Ion din RoMania si Ionica Morosanu au fost invitati la Zilele Orasului Sacele.
URL:http://onorariu-artisti.ro/event/zilele-orasului-sacele-andreea-banica/
LOCATION:Sacele\, Sacele\, România
CATEGORIES:concerte
ATTACH;FMTTYPE=image/jpeg:http://onorariu-artisti.ro/wp-content/uploads/Andreea-Banica-concert-zilele-orasului.jpg
END:VEVENT
BEGIN:VEVENT
DTSTART;TZID=UTC:20170722T200000
DTEND;TZID=UTC:20170722T210000
DTSTAMP:20260420T051715
CREATED:20181113T110415Z
LAST-MODIFIED:20181113T110415Z
UID:5437-1500753600-1500757200@onorariu-artisti.ro
SUMMARY:Zilele Orasului Sacele - Ionica Morosanu
DESCRIPTION:In data de 22 iulie Ionica Morosanu\, Ion din RoMania si Andreea Banica au fost invitati la Zilele Orasului Sacele.
URL:http://onorariu-artisti.ro/event/zilele-orasului-sacele-ionica-morosanu/
LOCATION:Sacele\, Sacele\, România
CATEGORIES:concerte
ATTACH;FMTTYPE=image/jpeg:http://onorariu-artisti.ro/wp-content/uploads/ionica-morosanu-concert.jpg
END:VEVENT
BEGIN:VEVENT
DTSTART;TZID=UTC:20170722T190000
DTEND;TZID=UTC:20170722T200000
DTSTAMP:20260420T051715
CREATED:20181113T105755Z
LAST-MODIFIED:20181113T105755Z
UID:5432-1500750000-1500753600@onorariu-artisti.ro
SUMMARY:Zilele Orasului Sacele - Ion din Romania
DESCRIPTION:In data de 22 iulie Ion din RoMania\, Ionica Morosanu si Andreea Banica au fost invitati la Zilele Orasului Sacele.
URL:http://onorariu-artisti.ro/event/zilele-orasului-sacele-ion-din-romania/
LOCATION:Sacele\, Sacele\, România
CATEGORIES:concerte
ATTACH;FMTTYPE=image/jpeg:http://onorariu-artisti.ro/wp-content/uploads/ion-din-romania-zilele-orasului.jpg
END:VEVENT
BEGIN:VEVENT
DTSTART;TZID=UTC:20170614T200000
DTEND;TZID=UTC:20170614T210000
DTSTAMP:20260420T051715
CREATED:20181113T103342Z
LAST-MODIFIED:20181113T103342Z
UID:5423-1497470400-1497474000@onorariu-artisti.ro
SUMMARY:Concert Andreea Balan
DESCRIPTION:In data de 14 iunie Andreea Balan sustine un recital alaturi de trupa de dansatoare.
URL:http://onorariu-artisti.ro/event/concert-andreea-balan/
LOCATION:Monaco Club\, Strada Louis Pasteur\, nr. 75\, Cluj Napoca\, 400353\, România
CATEGORIES:concerte
ATTACH;FMTTYPE=image/jpeg:http://onorariu-artisti.ro/wp-content/uploads/andreea-balan-contact-andreea-balan-pret-evenimente-corporate.jpg
END:VEVENT
BEGIN:VEVENT
DTSTART;TZID=UTC:20170521T190000
DTEND;TZID=UTC:20170521T200000
DTSTAMP:20260420T051715
CREATED:20181113T090220Z
LAST-MODIFIED:20181113T090220Z
UID:5398-1495393200-1495396800@onorariu-artisti.ro
SUMMARY:Zilele Sighisoarei - Alex Velea
DESCRIPTION:In data de 21 mai Alex Velea\, Lidia Buble si Adda sunt invitati la Zilele Sighisoarei unde sustin concerte live in aer liber.
URL:http://onorariu-artisti.ro/event/zilele-sighisoarei-alex-velea/
LOCATION:Sighisoara\, Sighisoara\, România
CATEGORIES:concerte
ATTACH;FMTTYPE=image/jpeg:http://onorariu-artisti.ro/wp-content/uploads/alex-velea-contact-alex-velea-pret-evenimente-corporate.jpg
END:VEVENT
BEGIN:VEVENT
DTSTART;TZID=UTC:20170520T200000
DTEND;TZID=UTC:20170520T210000
DTSTAMP:20260420T051715
CREATED:20181113T085647Z
LAST-MODIFIED:20181113T085647Z
UID:5394-1495310400-1495314000@onorariu-artisti.ro
SUMMARY:Zilele Sighisoarei - Trupa Hara
DESCRIPTION:In data de 20 mai trupa Hara\, Gabriel Cotabita si Gabriel Dorobantu sunt invitati la Zilele Sighisoarei unde vor sustine concerte live in aer liber.
URL:http://onorariu-artisti.ro/event/zilele-sighisoarei-trupa-hara/
LOCATION:Sighisoara\, Sighisoara\, România
CATEGORIES:concerte
ATTACH;FMTTYPE=image/jpeg:http://onorariu-artisti.ro/wp-content/uploads/trupa-hara-concert.jpg
END:VEVENT
BEGIN:VEVENT
DTSTART;TZID=UTC:20170520T180000
DTEND;TZID=UTC:20170520T190000
DTSTAMP:20260420T051715
CREATED:20181113T082313Z
LAST-MODIFIED:20181113T082313Z
UID:5375-1495303200-1495306800@onorariu-artisti.ro
SUMMARY:Zilele Sighisoarei - Gabriel Cotabita
DESCRIPTION:In data de 20 mai Gabriel Cotabita\, Trupa Hara si Gabriel Dorobantu sunt invitati la Zilele Sighisoarei unde vor sustine concerte live in aer liber.
URL:http://onorariu-artisti.ro/event/zilele-sighisoarei-gabriel-cotabita/
LOCATION:Sighisoara\, Sighisoara\, România
CATEGORIES:concerte
ATTACH;FMTTYPE=image/jpeg:http://onorariu-artisti.ro/wp-content/uploads/gabriel-cotabita-mi-e-dor-de-mine.jpg
END:VEVENT
END:VCALENDAR